BEGIN:VCALENDAR
VERSION:2.0
PRODID:-//AIT Community//Events//EN
CALSCALE:GREGORIAN
METHOD:PUBLISH
BEGIN:VEVENT
UID:13-world-summit-ai-amsterdam-2026@aitcommunity.org
DTSTAMP:20260423T142149Z
DTSTART;VALUE=DATE:20261007
SUMMARY:World Summit AI Amsterdam 2026
DESCRIPTION:A major global AI summit in Amsterdam bringing together researc
 hers\, founders\, enterprises\, and AI leaders.\n\nSource: https://worldsu
 mmit.ai/
LOCATION:Taets Art & Event Park\, Amsterdam\, Netherlands
URL:https://worldsummit.ai/
STATUS:CONFIRMED
END:VEVENT
END:VCALENDAR