BEGIN:VCALENDAR
VERSION:2.0
PRODID:-//AIT Community//Events//EN
CALSCALE:GREGORIAN
METHOD:PUBLISH
BEGIN:VEVENT
UID:32-workflows-agentiques-paris-2026@aitcommunity.org
DTSTAMP:20260421T094632Z
DTSTART;VALUE=DATE:20260428
SUMMARY:Workflows agentiques : quand l'IA automatise l'expertise mtier
DESCRIPTION:A Paris event on agentic workflows and how AI automates domain 
 expertise in real organizations.\n\nSource: https://www.meetup.com/lewagon
 -paris/events/
LOCATION:Paris\, France
URL:https://www.meetup.com/lewagon-paris/events/
STATUS:CONFIRMED
END:VEVENT
END:VCALENDAR