BEGIN:VCALENDAR
VERSION:2.0
PRODID:-//AIT Community//Events//EN
CALSCALE:GREGORIAN
METHOD:PUBLISH
BEGIN:VEVENT
UID:24-utrecht-jug-agentic-systems-in-action-2026@aitcommunity.org
DTSTAMP:20260419T200638Z
DTSTART;VALUE=DATE:20260420
SUMMARY:Meetup Utrecht JUG April 20th: Agentic Systems in Action
DESCRIPTION:A Utrecht Java User Group event focused on agentic systems\, au
 tonomous DevSecOps\, and memory in AI agents.\n\nSource: https://www.meetu
 p.com/utrecht-java-user-group/events/314021376/
LOCATION:Kamer van Koophandel\, Utrecht\, Netherlands
URL:https://www.meetup.com/utrecht-java-user-group/events/314021376/
STATUS:CONFIRMED
END:VEVENT
END:VCALENDAR