BEGIN:VCALENDAR
VERSION:2.0
PRODID:-//AIT Community//Events//EN
CALSCALE:GREGORIAN
METHOD:PUBLISH
BEGIN:VEVENT
UID:29-the-london-data-science-and-ai-meetup-2026@aitcommunity.org
DTSTAMP:20260420T133718Z
DTSTART;VALUE=DATE:20260430
SUMMARY:The London Data Science & AI Meet-up
DESCRIPTION:A London community meetup for data science\, machine learning\,
  and AI practitioners.\n\nSource: https://www.meetup.com/london-data-scien
 ce-ml-meetup/events/313912980/
LOCATION:London\, UK
URL:https://www.meetup.com/london-data-science-ml-meetup/events/313912980/
STATUS:CONFIRMED
END:VEVENT
END:VCALENDAR