BEGIN:VCALENDAR
VERSION:2.0
PRODID:-//AIT Community//Events//EN
CALSCALE:GREGORIAN
METHOD:PUBLISH
BEGIN:VEVENT
UID:8-the-ai-summit-london-2026@aitcommunity.org
DTSTAMP:20260419T210354Z
DTSTART;VALUE=DATE:20260610
SUMMARY:The AI Summit London 2026
DESCRIPTION:A major London AI event blending technical\, product\, and busi
 ness AI programming.\n\nSource: https://london.theaisummit.com/
LOCATION:Tobacco Dock\, London\, UK
URL:https://london.theaisummit.com/
STATUS:CONFIRMED
END:VEVENT
END:VCALENDAR