BEGIN:VCALENDAR
VERSION:2.0
PRODID:-//AIT Community//Events//EN
CALSCALE:GREGORIAN
METHOD:PUBLISH
BEGIN:VEVENT
UID:45-rise-of-ai-conference-2026@aitcommunity.org
DTSTAMP:20260423T110321Z
DTSTART;VALUE=DATE:20260506
SUMMARY:Rise of AI Conference 2026
DESCRIPTION:A European AI conference bringing together applied AI\, founder
 s\, and enterprise decision-makers in Berlin.\n\nSource: https://riseof.ai
 /conference-2026/
LOCATION:Berlin\, Germany
URL:https://riseof.ai/conference-2026/
STATUS:CONFIRMED
END:VEVENT
END:VCALENDAR