BEGIN:VCALENDAR
VERSION:2.0
PRODID:-//AIT Community//Events//EN
CALSCALE:GREGORIAN
METHOD:PUBLISH
BEGIN:VEVENT
UID:33-physical-ai-paris-april-meetup-2026@aitcommunity.org
DTSTAMP:20260421T094942Z
DTSTART;VALUE=DATE:20260428
SUMMARY:Physical AI Paris April Meetup
DESCRIPTION:A Paris meetup around physical AI and applied embodied/robotic 
 intelligence topics.\n\nSource: https://www.meetup.com/physical-ai-paris-m
 eetup/
LOCATION:Paris\, France
URL:https://www.meetup.com/physical-ai-paris-meetup/
STATUS:CONFIRMED
END:VEVENT
END:VCALENDAR