BEGIN:VCALENDAR
VERSION:2.0
PRODID:-//AIT Community//Events//EN
CALSCALE:GREGORIAN
METHOD:PUBLISH
BEGIN:VEVENT
UID:12-neurips-2026@aitcommunity.org
DTSTAMP:20260423T140438Z
DTSTART;VALUE=DATE:20261206
SUMMARY:NeurIPS 2026
DESCRIPTION:A flagship AI research conference covering neural information p
 rocessing systems\, methods\, evaluations\, and frontier AI topics.\n\nSou
 rce: https://neurips.cc/
LOCATION:Sydney\, Australia
URL:https://neurips.cc/
STATUS:CONFIRMED
END:VEVENT
END:VCALENDAR