BEGIN:VCALENDAR
VERSION:2.0
PRODID:-//AIT Community//Events//EN
CALSCALE:GREGORIAN
METHOD:PUBLISH
BEGIN:VEVENT
UID:38-mlops-drink-paris-2026@aitcommunity.org
DTSTAMP:20260421T094651Z
DTSTART;VALUE=DATE:20260422
SUMMARY:MLOps Drink Paris
DESCRIPTION:A Paris MLOps community gathering for practitioners to exchange
  ideas in an informal setting.\n\nSource: https://www.meetup.com/mlops-par
 is/events/314330881/
LOCATION:The Frog - Bercy Village\, Paris\, France
URL:https://www.meetup.com/mlops-paris/events/314330881/
STATUS:CONFIRMED
END:VEVENT
END:VCALENDAR