BEGIN:VCALENDAR
VERSION:2.0
PRODID:-//AIT Community//Events//EN
CALSCALE:GREGORIAN
METHOD:PUBLISH
BEGIN:VEVENT
UID:36-mindstone-lufthansa-innovation-hub-berlin-ai-meetup-2026@aitcommunit
 y.org
DTSTAMP:20260421T095023Z
DTSTART;VALUE=DATE:20260428
SUMMARY:Mindstone x Lufthansa Innovation Hub - Berlin April AI Meetup
DESCRIPTION:A Berlin AI meetup connecting applied AI community discussion w
 ith product and innovation practice.\n\nSource: https://www.meetup.com/min
 dstone-berlin-ai-meetup/
LOCATION:Berlin\, Germany
URL:https://www.meetup.com/mindstone-berlin-ai-meetup/
STATUS:CONFIRMED
END:VEVENT
END:VCALENDAR