BEGIN:VCALENDAR
VERSION:2.0
PRODID:-//AIT Community//Events//EN
CALSCALE:GREGORIAN
METHOD:PUBLISH
BEGIN:VEVENT
UID:46-mcp-dev-summit-north-america-2026@aitcommunity.org
DTSTAMP:20260423T110013Z
DTSTART;VALUE=DATE:20260414
SUMMARY:MCP Dev Summit North America 2026
DESCRIPTION:A developer summit centered on the Model Context Protocol ecosy
 stem\, tools\, and implementation patterns.\n\nSource: https://events.linu
 xfoundation.org/mcp-dev-summit-north-america/
LOCATION:Denver\, United States
URL:https://events.linuxfoundation.org/mcp-dev-summit-north-america/
STATUS:CONFIRMED
END:VEVENT
END:VCALENDAR