BEGIN:VCALENDAR
VERSION:2.0
PRODID:-//AIT Community//Events//EN
CALSCALE:GREGORIAN
METHOD:PUBLISH
BEGIN:VEVENT
UID:26-kickstart-ai-pie-and-ai-in-agriculture-2026@aitcommunity.org
DTSTAMP:20260419T202438Z
DTSTART;VALUE=DATE:20260528
SUMMARY:Kickstart AI x Pie & AI: AI in Agriculture
DESCRIPTION:A Dutch applied AI event on agriculture\, computer vision\, sen
 sing\, and sustainable yields.\n\nSource: https://www.meetup.com/the-hague
 -ai/events/314330747/
LOCATION:The Hague University of Applied Sciences\, The Hague\, Netherlands
URL:https://www.meetup.com/the-hague-ai/events/314330747/
STATUS:CONFIRMED
END:VEVENT
END:VCALENDAR