BEGIN:VCALENDAR
VERSION:2.0
PRODID:-//AIT Community//Events//EN
CALSCALE:GREGORIAN
METHOD:PUBLISH
BEGIN:VEVENT
UID:11-icml-2026@aitcommunity.org
DTSTAMP:20260423T140430Z
DTSTART;VALUE=DATE:20260706
SUMMARY:ICML 2026
DESCRIPTION:A top machine learning conference with broad influence across m
 odern AI methods\, systems\, and applications.\n\nSource: https://icml.cc/
LOCATION:Seoul\, South Korea
URL:https://icml.cc/
STATUS:CONFIRMED
END:VEVENT
END:VCALENDAR