BEGIN:VCALENDAR
VERSION:2.0
PRODID:-//AIT Community//Events//EN
CALSCALE:GREGORIAN
METHOD:PUBLISH
BEGIN:VEVENT
UID:9-iclr-2026@aitcommunity.org
DTSTAMP:20260419T205820Z
DTSTART;VALUE=DATE:20260423
SUMMARY:ICLR 2026
DESCRIPTION:The International Conference on Learning Representations\, a fl
 agship deep learning conference with broad industry and research relevance
 .\n\nSource: https://iclr.cc/
LOCATION:Rio de Janeiro\, Brazil
URL:https://iclr.cc/
STATUS:CONFIRMED
END:VEVENT
END:VCALENDAR