BEGIN:VCALENDAR
VERSION:2.0
PRODID:-//AIT Community//Events//EN
CALSCALE:GREGORIAN
METHOD:PUBLISH
BEGIN:VEVENT
UID:20-generative-ai-for-society-and-workplace-amsterdam-2026@aitcommunity.
 org
DTSTAMP:20260419T192104Z
DTSTART;VALUE=DATE:20260507
SUMMARY:Generative AI for Society and Workplace | Amsterdam
DESCRIPTION:A local Amsterdam event about practical generative AI adoption 
 in society and the workplace.\n\nSource: https://www.eventbrite.com.au/e/g
 enerative-ai-for-society-and-workplace-amsterdam-tickets-1204431600339?aff
 =ebdssbdestsearch
LOCATION:Amsterdam\, Netherlands
URL:https://www.eventbrite.com.au/e/generative-ai-for-society-and-workplace
 -amsterdam-tickets-1204431600339?aff=ebdssbdestsearch
STATUS:CONFIRMED
END:VEVENT
END:VCALENDAR