BEGIN:VCALENDAR
VERSION:2.0
PRODID:-//AIT Community//Events//EN
CALSCALE:GREGORIAN
METHOD:PUBLISH
BEGIN:VEVENT
UID:15-from-prompts-to-pre-training-ai-native-amsterdam-2026@aitcommunity.o
 rg
DTSTAMP:20260419T232126Z
DTSTART;VALUE=DATE:20260507
SUMMARY:From Prompts to Pre-Training: Quality\, Scale\, and the Road to AI 
 Native
DESCRIPTION:An Amsterdam meetup on production LLM quality\, evaluation\, sa
 feguards\, and large-scale training.\n\nSource: https://www.meetup.com/ai-
 native-amsterdam/events/313505357/
LOCATION:Amsterdam\, Netherlands
URL:https://www.meetup.com/ai-native-amsterdam/events/313505357/
STATUS:CONFIRMED
END:VEVENT
END:VCALENDAR