BEGIN:VCALENDAR
VERSION:2.0
PRODID:-//AIT Community//Events//EN
CALSCALE:GREGORIAN
METHOD:PUBLISH
BEGIN:VEVENT
UID:21-empowering-modern-hr-teams-with-ai-amsterdam-2026@aitcommunity.org
DTSTAMP:20260419T192243Z
DTSTART;VALUE=DATE:20260521
SUMMARY:Empowering Modern HR Teams with AI | Amsterdam
DESCRIPTION:A local Amsterdam event on how HR teams are using AI in modern 
 workflows.\n\nSource: https://www.eventbrite.com.au/e/empowering-modern-hr
 -teams-with-ai-amsterdam-tickets-1979833900492?aff=ebdssbdestsearch
LOCATION:Amsterdam\, Netherlands
URL:https://www.eventbrite.com.au/e/empowering-modern-hr-teams-with-ai-amst
 erdam-tickets-1979833900492?aff=ebdssbdestsearch
STATUS:CONFIRMED
END:VEVENT
END:VCALENDAR