BEGIN:VCALENDAR
VERSION:2.0
PRODID:-//AIT Community//Events//EN
CALSCALE:GREGORIAN
METHOD:PUBLISH
BEGIN:VEVENT
UID:37-devoxx-kickoff-agentic-workflows-docker-ai-tinkerers-paris-2026@aitc
 ommunity.org
DTSTAMP:20260421T094726Z
DTSTART;VALUE=DATE:20260421
SUMMARY:Devoxx Kickoff: Agentic Workflows with Docker and AI Tinkerers
DESCRIPTION:A Paris technical meetup on agentic workflows\, Docker-native a
 gent patterns\, and local execution.\n\nSource: https://www.meetup.com/doc
 ker-paris/events/314280825/
LOCATION:Paris\, France
URL:https://www.meetup.com/docker-paris/events/314280825/
STATUS:CONFIRMED
END:VEVENT
END:VCALENDAR