BEGIN:VCALENDAR
VERSION:2.0
PRODID:-//AIT Community//Events//EN
CALSCALE:GREGORIAN
METHOD:PUBLISH
BEGIN:VEVENT
UID:27-databricks-devconnect-london-2026@aitcommunity.org
DTSTAMP:20260420T134425Z
DTSTART;VALUE=DATE:20260429
SUMMARY:Databricks DevConnect London
DESCRIPTION:A London technical meetup on data engineering\, ML\, GenAI\, an
 d getting AI agents into production.\n\nSource: https://www.meetup.com/dat
 abricks-london/events/313648221/
LOCATION:Databricks London office\, London\, UK
URL:https://www.meetup.com/databricks-london/events/313648221/
STATUS:CONFIRMED
END:VEVENT
END:VCALENDAR