BEGIN:VCALENDAR
VERSION:2.0
PRODID:-//AIT Community//Events//EN
CALSCALE:GREGORIAN
METHOD:PUBLISH
BEGIN:VEVENT
UID:42-data-thursday-amsterdam-2026@aitcommunity.org
DTSTAMP:20260421T112242Z
DTSTART;VALUE=DATE:20260430
SUMMARY:Data Thursday
DESCRIPTION:A recurring Amsterdam data and AI meetup focused on practical A
 I quality and decision accuracy.\n\nSource: https://www.meetup.com/data-th
 ursday/events/311219356/
LOCATION:B. Amsterdam B3\, Johan Huizingalaan 400\, Amsterdam\, Netherlands
URL:https://www.meetup.com/data-thursday/events/311219356/
STATUS:CONFIRMED
END:VEVENT
END:VCALENDAR