BEGIN:VCALENDAR
VERSION:2.0
PRODID:-//AIT Community//Events//EN
CALSCALE:GREGORIAN
METHOD:PUBLISH
BEGIN:VEVENT
UID:6-data-ai-summit-2026@aitcommunity.org
DTSTAMP:20260423T140438Z
DTSTART;VALUE=DATE:20260615
SUMMARY:Data + AI Summit 2026
DESCRIPTION:A major AI and data engineering event spanning production AI\, 
 platforms\, analytics\, and enterprise deployment.\n\nSource: https://www.
 databricks.com/dataaisummit
LOCATION:San Francisco\, USA + Virtual
URL:https://www.databricks.com/dataaisummit
STATUS:CONFIRMED
END:VEVENT
END:VCALENDAR