BEGIN:VCALENDAR
VERSION:2.0
PRODID:-//AIT Community//Events//EN
CALSCALE:GREGORIAN
METHOD:PUBLISH
BEGIN:VEVENT
UID:10-cvpr-2026@aitcommunity.org
DTSTAMP:20260423T140345Z
DTSTART;VALUE=DATE:20260603
SUMMARY:CVPR 2026
DESCRIPTION:The leading computer vision conference\, relevant for multimoda
 l AI\, perception systems\, and advanced applied AI.\n\nSource: https://cv
 pr.thecvf.com/
LOCATION:Colorado Convention Center\, Denver\, USA
URL:https://cvpr.thecvf.com/
STATUS:CONFIRMED
END:VEVENT
END:VCALENDAR