BEGIN:VCALENDAR
VERSION:2.0
PRODID:-//AIT Community//Events//EN
CALSCALE:GREGORIAN
METHOD:PUBLISH
BEGIN:VEVENT
UID:28-claude-code-for-the-rest-of-us-london-2026@aitcommunity.org
DTSTAMP:20260420T133352Z
DTSTART;VALUE=DATE:20260422
SUMMARY:Meetup #15 Claude Code For The Rest Of Us
DESCRIPTION:A London meetup focused on practical Claude Code usage for know
 ledge workers\, product people\, and non-developers.\n\nSource: https://ww
 w.meetup.com/ai-for-the-rest-of-us-london/events/314152011/
LOCATION:123 Pentonville Rd\, London\, UK
URL:https://www.meetup.com/ai-for-the-rest-of-us-london/events/314152011/
STATUS:CONFIRMED
END:VEVENT
END:VCALENDAR