BEGIN:VCALENDAR
VERSION:2.0
PRODID:-//AIT Community//Events//EN
CALSCALE:GREGORIAN
METHOD:PUBLISH
BEGIN:VEVENT
UID:47-chatbot-summit-2026@aitcommunity.org
DTSTAMP:20260423T105911Z
DTSTART;VALUE=DATE:20260324
SUMMARY:Chatbot Summit 2026
DESCRIPTION:A long-running conversational AI event covering chatbots\, assi
 stants\, and agentic customer experiences.\n\nSource: https://www.chatbots
 ummit.com/
LOCATION:Berlin\, Germany
URL:https://www.chatbotsummit.com/
STATUS:CONFIRMED
END:VEVENT
END:VCALENDAR