BEGIN:VCALENDAR
VERSION:2.0
PRODID:-//AIT Community//Events//EN
CALSCALE:GREGORIAN
METHOD:PUBLISH
BEGIN:VEVENT
UID:40-berlin-ai-series-huggingface-n-tazi-2026@aitcommunity.org
DTSTAMP:20260421T095145Z
DTSTART;VALUE=DATE:20260421
SUMMARY:#31 AI Series: HuggingFace - N. Tazi
DESCRIPTION:A Berlin AI research-focused talk from Hugging Face on scaling 
 LLM training to thousands of GPUs.\n\nSource: https://www.meetup.com/bliss
 -speaker-series/events/314165256/
LOCATION:Technische Universit�t Berlin\, Berlin\, Germany
URL:https://www.meetup.com/bliss-speaker-series/events/314165256/
STATUS:CONFIRMED
END:VEVENT
END:VCALENDAR