BEGIN:VCALENDAR
VERSION:2.0
PRODID:-//AIT Community//Events//EN
CALSCALE:GREGORIAN
METHOD:PUBLISH
BEGIN:VEVENT
UID:41-berlin-ai-meetup-2026@aitcommunity.org
DTSTAMP:20260421T094726Z
DTSTART;VALUE=DATE:20260512
SUMMARY:Berlin AI Meetup
DESCRIPTION:A Berlin community meetup for practitioners building AI into re
 al products\, workflows\, and organizations.\n\nSource: https://www.meetup
 .com/berlinai/events/313632430/
LOCATION:Berlin\, Germany
URL:https://www.meetup.com/berlinai/events/313632430/
STATUS:CONFIRMED
END:VEVENT
END:VCALENDAR