BEGIN:VCALENDAR
VERSION:2.0
PRODID:-//AIT Community//Events//EN
CALSCALE:GREGORIAN
METHOD:PUBLISH
BEGIN:VEVENT
UID:39-bel-vue-meetup-q2-april-2026@aitcommunity.org
DTSTAMP:20260421T094942Z
DTSTART;VALUE=DATE:20260423
SUMMARY:BEL Vue - Meetup Q2 April 2026
DESCRIPTION:A Brussels-area Vue community meetup with a strong AI-related p
 rogramming angle.\n\nSource: https://www.meetup.com/belvue-be/events/31386
 4975/
LOCATION:Leexi.ai\, Auderghem\, Belgium
URL:https://www.meetup.com/belvue-be/events/313864975/
STATUS:CONFIRMED
END:VEVENT
END:VCALENDAR