BEGIN:VCALENDAR
VERSION:2.0
PRODID:-//AIT Community//Events//EN
CALSCALE:GREGORIAN
METHOD:PUBLISH
BEGIN:VEVENT
UID:22-annual-ai-summit-sector-specific-applied-use-cases-amsterdam-2026@ai
 tcommunity.org
DTSTAMP:20260419T192023Z
DTSTART;VALUE=DATE:20260422
SUMMARY:Annual AI Summit: Sector-Specific Applied Use Cases
DESCRIPTION:An Amsterdam event focused on applied AI use cases across indus
 try sectors.\n\nSource: https://www.eventbrite.com/e/annual-ai-summit-sect
 or-specific-applied-use-cases-tickets-1984385372066?aff=ebdssbdestsearch
LOCATION:Van der Valk Hotel Amsterdam Zuidas\, Amsterdam\, Netherlands
URL:https://www.eventbrite.com/e/annual-ai-summit-sector-specific-applied-u
 se-cases-tickets-1984385372066?aff=ebdssbdestsearch
STATUS:CONFIRMED
END:VEVENT
END:VCALENDAR