BEGIN:VCALENDAR
VERSION:2.0
PRODID:-//AIT Community//Events//EN
CALSCALE:GREGORIAN
METHOD:PUBLISH
BEGIN:VEVENT
UID:17-amsterdam-dev-techleadconf-2026@aitcommunity.org
DTSTAMP:20260423T140522Z
DTSTART;VALUE=DATE:20260611
SUMMARY:Amsterdam.dev @ TechLeadConf 2026
DESCRIPTION:A community-driven Amsterdam event around AI\, open source\, an
 d practical lessons from senior engineers and tech leads.\n\nSource: https
 ://www.meetup.com/amsterdam-dev/events/314192675/
LOCATION:De Kromhouthal\, Amsterdam\, Netherlands
URL:https://www.meetup.com/amsterdam-dev/events/314192675/
STATUS:CONFIRMED
END:VEVENT
END:VCALENDAR