BEGIN:VCALENDAR
VERSION:2.0
PRODID:-//AIT Community//Events//EN
CALSCALE:GREGORIAN
METHOD:PUBLISH
BEGIN:VEVENT
UID:23-ai4all-den-haag-ai-and-neurodiversity-2026@aitcommunity.org
DTSTAMP:20260419T192238Z
DTSTART;VALUE=DATE:20260430
SUMMARY:AI4ALL Den Haag Meetup - AI and Neurodiversity\, AI for Everyone
DESCRIPTION:A Netherlands meetup in The Hague exploring AI\, neurodiversity
 \, and inclusive adoption.\n\nSource: https://www.eventbrite.nl/e/ai4all-d
 en-haag-meetup-ai-and-neurodiversity-ai-for-everyone-tickets-1985575864862
 ?aff=ebdssbdestsearch
LOCATION:The Hague University of Applied Sciences\, The Hague\, Netherlands
URL:https://www.eventbrite.nl/e/ai4all-den-haag-meetup-ai-and-neurodiversit
 y-ai-for-everyone-tickets-1985575864862?aff=ebdssbdestsearch
STATUS:CONFIRMED
END:VEVENT
END:VCALENDAR