BEGIN:VCALENDAR
VERSION:2.0
PRODID:-//AIT Community//Events//EN
CALSCALE:GREGORIAN
METHOD:PUBLISH
BEGIN:VEVENT
UID:16-ai4all-amsterdam-ai-adoption-starts-with-trust-2026@aitcommunity.org
DTSTAMP:20260423T141646Z
DTSTART;VALUE=DATE:20260507
SUMMARY:AI4ALL Amsterdam Meetup: AI Adoption Starts with Trust
DESCRIPTION:A local Amsterdam meetup focused on the human and organizationa
 l side of successful AI adoption.\n\nSource: https://www.meetup.com/meetup
 -group-bplniieb/events/314292609/
LOCATION:Amsterdam\, Netherlands
URL:https://www.meetup.com/meetup-group-bplniieb/events/314292609/
STATUS:CONFIRMED
END:VEVENT
END:VCALENDAR