BEGIN:VCALENDAR
VERSION:2.0
PRODID:-//AIT Community//Events//EN
CALSCALE:GREGORIAN
METHOD:PUBLISH
BEGIN:VEVENT
UID:43-ai-webinar-enterprise-scale-ai-driven-insights-2026@aitcommunity.org
DTSTAMP:20260421T111426Z
DTSTART;VALUE=DATE:20260423
SUMMARY:AI Webinar - Enterprise Scale with AI-Driven Insights
DESCRIPTION:An Amsterdam-hosted AI developer webinar on Postgres\, lakehous
 e patterns\, and enterprise-scale AI insights.\n\nSource: https://www.meet
 up.com/amsterdam-ai-developers-group/events/314238507/
LOCATION:Online (hosted by Amsterdam AI Developers Group)
URL:https://www.meetup.com/amsterdam-ai-developers-group/events/314238507/
STATUS:CONFIRMED
END:VEVENT
END:VCALENDAR