BEGIN:VCALENDAR
VERSION:2.0
PRODID:-//AIT Community//Events//EN
CALSCALE:GREGORIAN
METHOD:PUBLISH
BEGIN:VEVENT
UID:18-ai-toastmasters-club-amsterdam-2026@aitcommunity.org
DTSTAMP:20260419T205748Z
DTSTART;VALUE=DATE:20260423
SUMMARY:AI Toastmasters Club Amsterdam
DESCRIPTION:A smaller Amsterdam community event mixing AI discussion with p
 ublic speaking practice in a relaxed local format.\n\nSource: https://www.
 meetup.com/ai-toastmasters-club-amsterdam/events/314257242/
LOCATION:Singel 126\, Amsterdam\, Netherlands
URL:https://www.meetup.com/ai-toastmasters-club-amsterdam/events/314257242/
STATUS:CONFIRMED
END:VEVENT
END:VCALENDAR