BEGIN:VCALENDAR
VERSION:2.0
PRODID:-//AIT Community//Events//EN
CALSCALE:GREGORIAN
METHOD:PUBLISH
BEGIN:VEVENT
UID:35-ai-in-practice-product-managers-berlin-2026@aitcommunity.org
DTSTAMP:20260421T094817Z
DTSTART;VALUE=DATE:20260428
SUMMARY:AI in Practice: What Product Managers Are Learning Right Now
DESCRIPTION:A Berlin event focused on what product managers are learning wh
 ile working with AI in practice.\n\nSource: https://www.meetup.com/product
 tank-berlin/
LOCATION:Berlin\, Germany
URL:https://www.meetup.com/producttank-berlin/
STATUS:CONFIRMED
END:VEVENT
END:VCALENDAR