BEGIN:VCALENDAR
VERSION:2.0
PRODID:-//AIT Community//Events//EN
CALSCALE:GREGORIAN
METHOD:PUBLISH
BEGIN:VEVENT
UID:19-ai-implementation-in-business-amsterdam-2026@aitcommunity.org
DTSTAMP:20260419T191852Z
DTSTART;VALUE=DATE:20260423
SUMMARY:AI Implementation in Business | Amsterdam
DESCRIPTION:A practical local Amsterdam event on implementing AI in busines
 s settings.\n\nSource: https://www.eventbrite.com.au/e/ai-implementation-i
 n-business-amsterdam-tickets-1023063890637?aff=ebdssbdestsearch
LOCATION:Amsterdam\, Netherlands
URL:https://www.eventbrite.com.au/e/ai-implementation-in-business-amsterdam
 -tickets-1023063890637?aff=ebdssbdestsearch
STATUS:CONFIRMED
END:VEVENT
END:VCALENDAR