BEGIN:VCALENDAR
VERSION:2.0
PRODID:-//AIT Community//Events//EN
CALSCALE:GREGORIAN
METHOD:PUBLISH
BEGIN:VEVENT
UID:5-ai-engineer-worlds-fair-san-francisco-2026@aitcommunity.org
DTSTAMP:20260423T141310Z
DTSTART;VALUE=DATE:20260629
SUMMARY:AI Engineer World's Fair - San Francisco 2026
DESCRIPTION:A flagship technical AI engineering conference focused on build
 ers\, tools\, infrastructure\, and production AI systems.\n\nSource: https
 ://www.ai.engineer/
LOCATION:San Francisco\, USA
URL:https://www.ai.engineer/
STATUS:CONFIRMED
END:VEVENT
END:VCALENDAR