BEGIN:VCALENDAR
VERSION:2.0
PRODID:-//AIT Community//Events//EN
CALSCALE:GREGORIAN
METHOD:PUBLISH
BEGIN:VEVENT
UID:7-ai-engineer-new-york-2026@aitcommunity.org
DTSTAMP:20260423T140657Z
DTSTART;VALUE=DATE:20261012
SUMMARY:AI Engineer New York 2026
DESCRIPTION:East Coast edition of the AI Engineer event series for builders
  and technical AI teams.\n\nSource: https://www.ai.engineer/
LOCATION:New York\, USA
URL:https://www.ai.engineer/
STATUS:CONFIRMED
END:VEVENT
END:VCALENDAR