BEGIN:VCALENDAR
VERSION:2.0
PRODID:-//AIT Community//Events//EN
CALSCALE:GREGORIAN
METHOD:PUBLISH
BEGIN:VEVENT
UID:44-ai-engineer-europe-2026@aitcommunity.org
DTSTAMP:20260423T105927Z
DTSTART;VALUE=DATE:20260408
SUMMARY:AI Engineer Europe 2026
DESCRIPTION:A major Europe-focused AI engineering event for builders\, infr
 a teams\, and practitioners working on real AI systems.\n\nSource: https:/
 /www.ai.engineer/europe
LOCATION:London\, United Kingdom
URL:https://www.ai.engineer/europe
STATUS:CONFIRMED
END:VEVENT
END:VCALENDAR