BEGIN:VCALENDAR
VERSION:2.0
PRODID:-//AIT Community//Events//EN
CALSCALE:GREGORIAN
METHOD:PUBLISH
BEGIN:VEVENT
UID:31-agents-in-production-the-memory-problem-london-2026@aitcommunity.org
DTSTAMP:20260420T134319Z
DTSTART;VALUE=DATE:20260428
SUMMARY:Agents in Production: The Memory Problem
DESCRIPTION:A London meetup on agent memory\, knowledge graph RAG\, and pro
 duction-grade AI systems.\n\nSource: https://www.meetup.com/futures-forum/
 events/314195573/
LOCATION:Huckletree Oxford Circus\, London\, UK
URL:https://www.meetup.com/futures-forum/events/314195573/
STATUS:CONFIRMED
END:VEVENT
END:VCALENDAR