BEGIN:VCALENDAR
VERSION:2.0
PRODID:-//AIT Community//Events//EN
CALSCALE:GREGORIAN
METHOD:PUBLISH
BEGIN:VEVENT
UID:30-agentic-ai-meetup-london-7-2026@aitcommunity.org
DTSTAMP:20260420T133114Z
DTSTART;VALUE=DATE:20260422
SUMMARY:Agentic AI-MeetUp London #7
DESCRIPTION:A London meetup dedicated to agentic AI\, productization\, and 
 practical deployment discussions.\n\nSource: https://www.meetup.com/london
 -agentic-ai-meet-up/events/313923583/
LOCATION:Olympia\, London\, UK
URL:https://www.meetup.com/london-agentic-ai-meet-up/events/313923583/
STATUS:CONFIRMED
END:VEVENT
END:VCALENDAR