BEGIN:VCALENDAR
VERSION:2.0
PRODID:-//AIT Community//Events//EN
CALSCALE:GREGORIAN
METHOD:PUBLISH
BEGIN:VEVENT
UID:48-agentic-26-de-toekomst-van-ai-agents-2026@aitcommunity.org
DTSTAMP:20260423T110104Z
DTSTART;VALUE=DATE:20260318
SUMMARY:Agentic 26 - De Toekomst van AI Agents
DESCRIPTION:A Dutch event focused explicitly on the future of AI agents.\n\
 nSource: https://incentrocon.nl/
LOCATION:Netherlands
URL:https://incentrocon.nl/
STATUS:CONFIRMED
END:VEVENT
END:VCALENDAR