BEGIN:VCALENDAR
VERSION:2.0
PRODID:-//AIT Community//Events//EN
CALSCALE:GREGORIAN
METHOD:PUBLISH
BEGIN:VEVENT
UID:14-agentcamp-amsterdam-2026@aitcommunity.org
DTSTAMP:20260419T213937Z
DTSTART;VALUE=DATE:20260423
SUMMARY:AgentCamp Amsterdam 2026
DESCRIPTION:A hands-on Amsterdam AI builders event focused on agents\, MCP\
 , RAG\, and practical AI workshops.\n\nSource: https://www.meetup.com/pyla
 diesams/events/313950343/
LOCATION:Amsterdam\, Netherlands
URL:https://www.meetup.com/pyladiesams/events/313950343/
STATUS:CONFIRMED
END:VEVENT
END:VCALENDAR