BEGIN:VCALENDAR
VERSION:2.0
PRODID:-//AIT Community//Events//EN
CALSCALE:GREGORIAN
METHOD:PUBLISH
BEGIN:VEVENT
UID:34-29th-belgium-nlp-meetup-2026@aitcommunity.org
DTSTAMP:20260421T094833Z
DTSTART;VALUE=DATE:20260505
SUMMARY:29th Belgium NLP Meetup
DESCRIPTION:A Belgian NLP meetup for language technology practitioners and 
 applied AI builders.\n\nSource: https://www.meetup.com/belgium-nlp-meetup/
LOCATION:Brussels\, Belgium
URL:https://www.meetup.com/belgium-nlp-meetup/
STATUS:CONFIRMED
END:VEVENT
END:VCALENDAR