BEGIN:VCALENDAR
VERSION:2.0
PRODID:-//AIT Community//Events//EN
CALSCALE:GREGORIAN
METHOD:PUBLISH
BEGIN:VEVENT
UID:25-27th-ds-rotterdam-meetup-2026@aitcommunity.org
DTSTAMP:20260419T201632Z
DTSTART;VALUE=DATE:20260506
SUMMARY:27th DS Rotterdam Meetup
DESCRIPTION:A Rotterdam data science and AI meetup for practitioners\, foun
 ders\, and ML engineers.\n\nSource: https://www.meetup.com/data-science-rd
 m/events/313382714/
LOCATION:42workspace\, Rotterdam\, Netherlands
URL:https://www.meetup.com/data-science-rdm/events/313382714/
STATUS:CONFIRMED
END:VEVENT
END:VCALENDAR